BEGIN:VCALENDAR
PRODID:NingEventWidget-v1
VERSION:2.0
METHOD:PUBLISH
BEGIN:VEVENT
UID:5167423:Event:63673
DTSTAMP:20260422T061254Z
SUMMARY:Motorama
DESCRIPTION:WELCOME TO MOTORAMA EVENTS\n\nTHE NATIONS LARGEST ALL INDO
 OR MOTORSPORTS EVENT FEATURING 1 MILLION SQ FEET OF EXHIBIT SPACE\nIt
  all goes down February 21st and 22nd 2015 in Harrisburg Pennsylvania 
 at the Farm Show Complex.  Live Arenacross, Go Cart Racing,  Quarter
  Midgets,  Remote Control,  Robot Conflict, Tuners, Muscle, Truck, H
 ot Rods and vendors, vendors, vendors. Saturday 9am-10pm, Sunday 9am-5
 pm\n\n\n\n\n\n\n\nFor more information visit https://northeastwheelsev
 ents.com/events/motorama-1
DTSTART:20150221T140000Z
DTEND:20150222T220000Z
CATEGORIES:indoor, racing, show, and, speed, equipment
LOCATION:Pennsylvania Farm Show Complex
WEBSITE:https://www.motoramaevents.com/
URL:https://www.motoramaevents.com/
CONTACT:
ORGANIZER:Motorama Events
ATTACH;FMTTYPE="image/jpeg":http://storage.ning.com/topology/rest/1.0/
 file/get/2284065326?profile=original
ATTENDEE;ROLE=REQ-PARTICIPANT;PARTSTAT=ACCEPTED;RSVP=TRUE;CN="Pamela H
 irschhorn":https://northeastwheelsevents.com/profile/PamelaHirschhorn
END:VEVENT
END:VCALENDAR
