BEGIN:VCALENDAR
PRODID:NingEventWidget-v1
VERSION:2.0
METHOD:PUBLISH
BEGIN:VEVENT
UID:5167423:Event:169909
DTSTAMP:20260424T001459Z
SUMMARY:Motorama Car Truck and Bike Show Harrisburg
DESCRIPTION:\n\nFor more information visit https://northeastwheelseven
 ts.com/events/motorama-car-truck-and-bike-show-harrisburg
DTSTART:20180217T140000Z
DTEND:20180218T220000Z
CATEGORIES:motorsports, and, car, truck, bike, show
LOCATION:Pennsylvania Farm Show Complex, Harrisburg
WEBSITE:http://www.Motoramaevents.com
URL:http://www.Motoramaevents.com
CONTACT:Swisher 717 269-2625 or Andy 717 307-5466
ORGANIZER:Motorama Events
ATTACH;FMTTYPE="image/jpeg":http://storage.ning.com/topology/rest/1.0/
 file/get/2284104215?profile=original
ATTENDEE;ROLE=REQ-PARTICIPANT;PARTSTAT=ACCEPTED;RSVP=TRUE;CN="Car Show
 s Little Helper":https://northeastwheelsevents.com/profile/CarShowsLit
 tleHelper
END:VEVENT
END:VCALENDAR
