BEGIN:VCALENDAR
PRODID:NingEventWidget-v1
VERSION:2.0
METHOD:PUBLISH
BEGIN:VEVENT
UID:5167423:Event:14723
DTSTAMP:20260421T125415Z
SUMMARY:Motorama Events Rod,Custom and Tuner Show
DESCRIPTION:In the Summer of 1977, Armin Hostetter and his three sons 
 were finishing up their 5th racing season at Trail-Way Speedway. Bein
 g a farmer all his life and a motorcycle racer in his youth, he had an
  idea. During the yearly visits to the Pennsylvania Farm Show, he kne
 w the Large Arena had a dirt floor. That coupled with the fact that no
  one was racing outdoors over the winter, the solution was obvious, in
 door racing. With a few phone calls he put together the first Motorama
  event February 15th and 16th, 1978, called the Harrisburg Indoor Moto
 rcycle Championship.\nOver the last 30 years, there were many growing 
 pains, but the main focus has always been the racing. Buildings were a
 dded to the complex, expanding to almost 30 acres under one roof. Moto
 rama Races and Shows have expanded to include all of the building. The
  newest is the New Expo Hall, home to the Saturday only show called Tu
 nerwar and the Sunday only Commercial Truck and off road Expo.\nAll of
  the racing and all shows are included in your single admission price,
  but there are no reserved seats in any of the five racing arenas. The
 re are over 2,000 racers along with over 700 race and show vehicles on
  display. As you walk thru the shows and pit areas, feel free to stop 
 and talk to them. Don't forget to support the more then 100 various sp
 onsors and vendors who continue to support Motorama year after year.\n
 \nFor more information visit https://northeastwheelsevents.com/events/
 motorama-events-rod-custom-and-tuner-show
DTSTART:20130216T050000Z
DTEND:20130218T045900Z
CATEGORIES:indoor, car, show, and, racing, event
LOCATION:Harrisburg PA Pennsylvania Farm Show Complex
WEBSITE:http://www.motoramaevents.com
URL:http://www.motoramaevents.com
CONTACT:717.359.7056
ORGANIZER:Motorama Events
ATTACH;FMTTYPE="image/jpeg":http://storage.ning.com/topology/rest/1.0/
 file/get/2284047699?profile=original
ATTENDEE;ROLE=REQ-PARTICIPANT;PARTSTAT=ACCEPTED;RSVP=TRUE;CN="Pamela H
 irschhorn":https://northeastwheelsevents.com/profile/PamelaHirschhorn
END:VEVENT
END:VCALENDAR
