BEGIN:VCALENDAR
PRODID:NingEventWidget-v1
VERSION:2.0
METHOD:PUBLISH
BEGIN:VEVENT
UID:5167423:Event:329842
DTSTAMP:20260419T194250Z
SUMMARY:Motorama Races & Shows
DESCRIPTION:The nation's largest all indoor racing event and live show
  featuring 1 million square feet of action.\nPA Farm Show Complex\nF
 ebruary 15th & 16th  2025  \n2300 N. Cameron St Harrisburg, PA 171
 10\nSaturday 9AM to 10PM  Sunday    9AM to 5PM\n\nFor more informa
 tion visit https://northeastwheelsevents.com/events/motorama-races-amp
 -shows
DTSTART:20250215T050000Z
DTEND:20250217T045900Z
CATEGORIES:races, and, shows
LOCATION:PA Farm Show Complex
WEBSITE:https://motoramaproductions.com/motorama-admission
URL:https://motoramaproductions.com/motorama-admission
CONTACT:
ORGANIZER;CN="Andy Goodman":https://northeastwheelsevents.com/profile/
 AndyGoodman
ATTACH;FMTTYPE="image/jpeg":https://storage.ning.com/topology/rest/1.0
 /file/get/12681379279?profile=original
ATTENDEE;ROLE=REQ-PARTICIPANT;PARTSTAT=ACCEPTED;RSVP=TRUE;CN="Andy Goo
 dman":https://northeastwheelsevents.com/profile/AndyGoodman
END:VEVENT
END:VCALENDAR
