BEGIN:VCALENDAR
PRODID:NingEventWidget-v1
VERSION:2.0
METHOD:PUBLISH
BEGIN:VEVENT
UID:5167423:Event:137114
DTSTAMP:20260424T144612Z
SUMMARY:Motorcycle Swap meet and Antique and Custom Motorcycle Show
DESCRIPTION:CALL FOR INFORMATION\n\nFor more information visit https:/
 /northeastwheelsevents.com/events/motorcycle-swap-meet-and-antique-and
 -custom-motorcycle-show
DTSTART:20161120T050000Z
DTEND:20161121T045900Z
CATEGORIES:motorcycle, swap, meet
LOCATION:PA Farm Show Complex
WEBSITE:
URL:
CONTACT:(386) 206-5276
ORGANIZER:
ATTACH;FMTTYPE="image/jpeg":http://storage.ning.com/topology/rest/1.0/
 file/get/2284094413?profile=original
ATTENDEE;ROLE=REQ-PARTICIPANT;PARTSTAT=ACCEPTED;RSVP=TRUE;CN="Pamela H
 irschhorn":https://northeastwheelsevents.com/profile/PamelaHirschhorn
END:VEVENT
END:VCALENDAR
