BEGIN:VCALENDAR
PRODID:NingEventWidget-v1
VERSION:2.0
METHOD:PUBLISH
BEGIN:VEVENT
UID:5167423:Event:197677
DTSTAMP:20260425T165502Z
SUMMARY:MOTORS AND MUTTS
DESCRIPTION:A CAR SHOW TO RAISE MONEY FOR THE YORK SPCA.motors%20and%2
 0mutts%20oct.%20show%20jpg.jpgmotors%20and%20mutts%20oct.%20show%20jpg
 .jpg\n\nFor more information visit https://northeastwheelsevents.com/e
 vents/motors-and-mutts-1
DTSTART:20181006T150000Z
DTEND:20181006T190000Z
CATEGORIES:fundraiser, for, the, spca, of, york, county
LOCATION:3159 NORTH SUSQUEHANNA TRAIL, YORK,PA.
WEBSITE:
URL:
CONTACT:7172353221
ORGANIZER;CN="theresa adamski":https://northeastwheelsevents.com/profi
 le/theresaadamski643
ATTACH;FMTTYPE="image/jpeg":http://storage.ning.com/topology/rest/1.0/
 file/get/2284108816?profile=original
ATTENDEE;ROLE=REQ-PARTICIPANT;PARTSTAT=ACCEPTED;RSVP=TRUE;CN="theresa 
 adamski":https://northeastwheelsevents.com/profile/theresaadamski643
END:VEVENT
END:VCALENDAR
