BEGIN:VCALENDAR
PRODID:NingEventWidget-v1
VERSION:2.0
METHOD:PUBLISH
BEGIN:VEVENT
UID:5167423:Event:246328
DTSTAMP:20260419T231338Z
SUMMARY:MOTORS AND MUTTS CAR SHOW
DESCRIPTION:THIS IS A JUDGED CAR SHOW HELD AT THE YORK SPCA  FOR THE 
 SPCA. TROPHIES,DOOR PRIZES,GREAT MUSIC AND AWESOME FOOD BY PARMA PIZZA
  OF YORK.. ALL MONEY WILL GO TO THE YORK SPCA. $10.00 DONATION AND A F
 UN TIME FOR A GREAT CAUSE.  11 TO 3.\nRAIN DATE JULY 27,2019    THE
 RESA\n\nFor more information visit https://northeastwheelsevents.com/e
 vents/motors-and-mutts-car-show
DTSTART:20190720T150000Z
DTEND:20190720T190000Z
CATEGORIES:fundraiser, for, the, york, spca
LOCATION:YORK SPCA, YORK PA
WEBSITE:
URL:
CONTACT:7172353221
ORGANIZER:YORK MUSTANG CLUB AND PARMA PIZZA
ATTACH;FMTTYPE="image/jpeg":https://storage.ning.com/topology/rest/1.0
 /file/get/2706974035?profile=original
ATTENDEE;ROLE=REQ-PARTICIPANT;PARTSTAT=ACCEPTED;RSVP=TRUE;CN="theresa 
 adamski":https://northeastwheelsevents.com/profile/theresaadamski643
END:VEVENT
END:VCALENDAR
