BEGIN:VCALENDAR
PRODID:NingEventWidget-v1
VERSION:2.0
METHOD:PUBLISH
BEGIN:VEVENT
UID:5167423:Event:230575
DTSTAMP:20260421T194433Z
SUMMARY:Motorsports Race Car and Trade Show
DESCRIPTION:Over 250,000 square feet of nothing but racing, the Motors
 ports Racecar & Trade Show is the perfect place for people serious abo
 ut the motorsports industry. \n\nFor more information visit https://n
 ortheastwheelsevents.com/events/motorsports-race-car-amp-trade-show
DTSTART:20190118T190000Z
DTEND:20190120T210000Z
CATEGORIES:race, car, show
LOCATION:The Greater Philadelphia Expo Center
WEBSITE:http://www.motorsportstradeshow.com
URL:http://www.motorsportstradeshow.com
CONTACT:609.888.3618
ORGANIZER:Area Auto Racing News
ATTACH;FMTTYPE="image/jpeg":
ATTENDEE;ROLE=REQ-PARTICIPANT;PARTSTAT=ACCEPTED;RSVP=TRUE;CN="Car Show
 s Little Helper":https://northeastwheelsevents.com/profile/CarShowsLit
 tleHelper
END:VEVENT
END:VCALENDAR
