BEGIN:VCALENDAR
PRODID:NingEventWidget-v1
VERSION:2.0
METHOD:PUBLISH
BEGIN:VEVENT
UID:5167423:Event:201811
DTSTAMP:20260425T183111Z
SUMMARY:Movie Night/Raffle Drawing
DESCRIPTION:Newport Car Museum Movie Nights are back for Fall and Wint
 er. September’s feature is the 2011 action adventure “Fast Five,
  starring Vin Diesel, Dwayne Johnson and Paul Walker (Rated PG-13). D
 rawing will be held for the museum’s “Fast Five” Raffle, which b
 enefits Hasbro Children’s Hospital and includes first prize of a rid
 e to lunch with the Museum founders in the same Ford GT40 that is feat
 ured in the movie’s famous train heist scene.\n\nFree for members, $
 8pp general public; ticket prices cover living room seating, popcorn &
  soft drinks. Space is limited; call 401-848-2277 to reserve. (Doors o
 pen at 6:30).\n\n1947 West Main Rd. (Enter at Light), Portsmouth, R.I.
  02871, 401-848-2277, www.newportcarmuseum.org\n\nFor more information
  visit https://northeastwheelsevents.com/events/movie-night-raffle-dra
 wing
DTSTART:20180926T230000Z
DTEND:20180927T010000Z
CATEGORIES:movie, night, and, raffle, drawing
LOCATION:Newport Car Museum
WEBSITE:https://newportcarmuseum.org/
URL:https://newportcarmuseum.org/
CONTACT:4018482277
ORGANIZER:Newport Car Museum
ATTACH;FMTTYPE="image/jpeg":http://storage.ning.com/topology/rest/1.0/
 file/get/2284110725?profile=original
ATTENDEE;ROLE=REQ-PARTICIPANT;PARTSTAT=ACCEPTED;RSVP=TRUE;CN="Ryan B":
 https://northeastwheelsevents.com/profile/DrewM
END:VEVENT
END:VCALENDAR
