BEGIN:VCALENDAR
PRODID:NingEventWidget-v1
VERSION:2.0
METHOD:PUBLISH
BEGIN:VEVENT
UID:5167423:Event:63824
DTSTAMP:20260422T031024Z
SUMMARY:Musclecar Madness at the York Reunion
DESCRIPTION:July 10-11 Celebrating the 50th Anniversary of the Woodsto
 ck of Drag Racing at the York Expo Center,\nYork Fairgrounds, York, PA
  with Miss Hurst Golden Shifter Linda Vaughn, and the official voice 
 of the\n1st Super Stock Nationals at York US 30 Dragway,\nJon Lundberg
 . Drag racing legends Bruce Larson,\nAl Joniec, Bob Harrop, Jere Stah
 l, Wally Bell and the list goes on.  Friday, July 10th from 1 p.m. un
 til 8 p.m. and Saturday, July 11th from 9 a.m. until 7 p.m.  Legion o
 f Honor awards at 6 p.m. Friday.\nSecond Annual Jr. Stock Reunion and 
 much more.\nInfo: www.yorknostalgia.com or Darwin Doll 717-757-2720.\n
 \n\n\nFor more information visit https://northeastwheelsevents.com/eve
 nts/musclecar-madness-at-the-york-reunion-1
DTSTART:20150710T170000Z
DTEND:20150711T230000Z
CATEGORIES:"musclecar/drag", racing
LOCATION:York Expo Center, 334 Carlisle Ave.York, PA 17404
WEBSITE:http://www.yorknostalgia.com
URL:http://www.yorknostalgia.com
CONTACT:717-757-2720
ORGANIZER;CN="Darwin Doll":https://northeastwheelsevents.com/profile/D
 arwinDoll
ATTACH;FMTTYPE="image/jpeg":
ATTENDEE;ROLE=REQ-PARTICIPANT;PARTSTAT=ACCEPTED;RSVP=TRUE;CN="Darwin D
 oll":https://northeastwheelsevents.com/profile/DarwinDoll
END:VEVENT
END:VCALENDAR
