BEGIN:VCALENDAR
PRODID:NingEventWidget-v1
VERSION:2.0
METHOD:PUBLISH
BEGIN:VEVENT
UID:5167423:Event:560
DTSTAMP:20260423T195345Z
SUMMARY:Mustang Muscle at Montana West   Quakertown Pa
DESCRIPTION:Open to all vehicles. PennMustangs annual car show featuri
 ng over 200 vehicles. Includes over 25 awards, raffle prizes, 50/50, f
 ood, drinks, ice cream, DJ and so much more. Come out for an amazing s
 how and meet many local vehicles owners from in and around PA.\n\nFor 
 more information visit https://northeastwheelsevents.com/events/mustan
 g-muscle-at-montana-west-1
DTSTART:20100711T130000Z
DTEND:20100711T200000Z
CATEGORIES:benefit, nicole, reppert, foundation
LOCATION:Quakerton,pa.
WEBSITE:http://www.NicoleReppert.com
URL:http://www.NicoleReppert.com
CONTACT:
ORGANIZER:www.PennMustangs.com
ATTACH;FMTTYPE="image/jpeg":
ATTENDEE;ROLE=REQ-PARTICIPANT;PARTSTAT=ACCEPTED;RSVP=TRUE;CN="Richard 
 Scott":https://northeastwheelsevents.com/profile/RichardScott
END:VEVENT
END:VCALENDAR
