BEGIN:VCALENDAR
PRODID:NingEventWidget-v1
VERSION:2.0
METHOD:PUBLISH
BEGIN:VEVENT
UID:5167423:Event:337675
DTSTAMP:20260424T072753Z
SUMMARY:Nacho Farm Biannual Car Show
DESCRIPTION:100 % of the proceeds GOES directly TO MERCY FLIGHT CENTRA
 L (right here in Canandaigua)RAIN DATE Oct 11th 2025 11-3pm All cars, 
 bikes, trucks and tractors welcome! I need Volunteers Please ( msg me
 )I need vendors/ and folks to display their ART/ Jewelry/t-shirts and 
 stuff) msg meI need help with Donations for a Silent Auction: if you w
 ould like to participate personally by putting a basket together/ a do
 nation Gift/ a business idea (Gift card)/ or something else…Please f
 eel Free to msg me*** ALL Auction Items must be received by 9/20/25***
 *Nick LaDuc will be singing!🎵*C&B Roasters will be catering*There w
 ill be a Tap Trailer*cupcakes and goodies will be for sale”*Dennis H
 azlett will be doing “haircuts for a cause”*A Lorraine Staunch Pai
 nting” for the Silent Auction*katlyn Elizabeth” Professional Pictu
 res of families/ cars*Just Chillin” Ice Cream Truck*sites and Shades
  in Canandaigua\r\nThanks for your support and community interest in s
 uch an Amazing Benefit!Please ShareWe will continue to add details as 
 we get closer!!\r\n\r\nAlso don't miss our Spring show! Nacho Average
  Car Show, Sun, 11 May, 2025 at 07:38 pm (EDT), same location, same c
 ontact info. \n\nFor more information visit https://northeastwheelsev
 ents.com/events/nacho-farm-biannual-car-show
DTSTART:20251004T150000Z
DTEND:20251004T190000Z
CATEGORIES:carshow, swapmeet
LOCATION:Nacho Farms
WEBSITE:https://allevents.in/canandaigua/nacho-farm-biannual-car-show/
 200027783068431
URL:https://allevents.in/canandaigua/nacho-farm-biannual-car-show/2000
 27783068431
CONTACT:585-750-5106
ORGANIZER:NachofarmNtattoolovertreefarm21@yahoo.com
ATTACH;FMTTYPE="image/jpeg":https://storage.ning.com/topology/rest/1.0
 /file/get/13463771872?profile=original
ATTENDEE;ROLE=REQ-PARTICIPANT;PARTSTAT=ACCEPTED;RSVP=TRUE;CN="William 
 Bruce":https://northeastwheelsevents.com/profile/WilliamBruce
END:VEVENT
END:VCALENDAR
