BEGIN:VCALENDAR
PRODID:NingEventWidget-v1
VERSION:2.0
METHOD:PUBLISH
BEGIN:VEVENT
UID:5167423:Event:347082
DTSTAMP:20260425T154238Z
SUMMARY:NAPA Syracuse Nationals 2026
DESCRIPTION:The largest car show in the northeast features more than 8
 ,000 cars, 400 vendors and 1,000 things to do and see! Wednesday, July
  15- Saturday, July 18 2026 at the New York State Fairgrounds in Syrac
 use, New York.  Check website for list and times of activities. Wedne
 sday is participant activities! \r\n26th Anniversary Celebration!\r\n
 It’s more than a car show: Live music, food, model contest, tech sem
 inars, giveaways, drags, swap meet, car corral, poker run, pin-stripin
 g demos and artwork, even a Women’s World Expo, and a free picnic fo
 r show entrants, (Thursday, July 17). Check schedule for times and act
 ivities!  \r\nPre- Sale Admission tickets are on sale now! New this 
 year, Chilren 12 and under admitted free!  1 adult for 1 day admissio
 n, $ 24.31. Weekend $60.54., To meet and greet, Check Schedule for tim
 es and all the activities. \r\nPrint out car registration, and Campin
 g registration on website, https://syracusenationals.com. You can also
  register on site. Call 1-800-753-3978, for more info. Email: Badger@S
 yracuseNationals.com\r\nPlenty of hotels, on-site camping, great resta
 urants, shopping and wineries are close by. You’ll find it all – f
 rom Street Rods, to Rat Rods, to Muscle Cars to Stocks to Classics to 
 Pro Street to Antiques to Exotics to Foreign- in this 365-acre festiva
 l atmosphere.\r\nhttp://www.facebook.com/RightCoastInc/ for club info.
  \n\nFor more information visit https://northeastwheelsevents.com/eve
 nts/napa-syracuse-nationals-2026
DTSTART:20260715T120000Z
DTEND:20260718T220000Z
CATEGORIES:carshow, pokerrun, dragraces, modelcontest, swapmeet
LOCATION:New York State Fairgrounds
WEBSITE:https://www.syracusenationals.com/
URL:https://www.syracusenationals.com/
CONTACT:315.668.9703
ORGANIZER:Right Coast Association
ATTACH;FMTTYPE="image/jpeg":https://storage.ning.com/topology/rest/1.0
 /file/get/12637231679?profile=original
ATTENDEE;ROLE=REQ-PARTICIPANT;PARTSTAT=ACCEPTED;RSVP=TRUE;CN="William 
 Bruce":https://northeastwheelsevents.com/profile/WilliamBruce
END:VEVENT
END:VCALENDAR
