BEGIN:VCALENDAR
PRODID:NingEventWidget-v1
VERSION:2.0
METHOD:PUBLISH
BEGIN:VEVENT
UID:5167423:Event:174581
DTSTAMP:20260422T154735Z
SUMMARY:NASCAR K&N Pro Series East
DESCRIPTION:The NASCAR K&N Pro Series, which includes the East and the
  West, is the top step in NASCAR’s developmental ladder before drive
 rs progress to the three national series. Since 2007, NASCAR K&N Pro S
 eries veterans have made a significant impact at the national level, i
 ncluding 2011 Daytona 500 champion Trevor Bayne, 2015 Daytona 500 cham
 pion Joey Logano, and 2014 NASCAR XFINITY Series champion Chase Elliot
 t, along with Ryan Blaney, Austin and Ty Dillon, Kyle Larson, Ryan Tru
 ex, Darrell Wallace Jr., and others. The series introduces NASCAR fans
  to the next generation of stars, and the diverse mix of short tracks,
  road courses, and national series speedways appeals to a broad range 
 of motorsports fans. With identical series racing throughout the coun
 try, the K&N Pro Series provides a cost-effective opportunity for youn
 g drivers to gain valuable experience and exposure to highly competiti
 ve racing. \n\nFor more information visit https://northeastwheelseven
 ts.com/events/nascar-k-amp-n-pro-series-east
DTSTART:20180616T160000Z
DTEND:20180616T230000Z
CATEGORIES:nascar
LOCATION:New Jersey Motorsports Park
WEBSITE:https://www.etix.com/ticket/p/3974395/nascar-kn-pro-series-mil
 lville-new-jersey-motorsports-park?language=en&amp;country=US&amp;sear
 chType=venue&amp;
URL:https://www.etix.com/ticket/p/3974395/nascar-kn-pro-series-millvil
 le-new-jersey-motorsports-park?language=en&amp;country=US&amp;searchTy
 pe=venue&amp;
CONTACT:(856)-327-8000
ORGANIZER:
ATTACH;FMTTYPE="image/jpeg":http://storage.ning.com/topology/rest/1.0/
 file/get/2284102298?profile=original
ATTENDEE;ROLE=REQ-PARTICIPANT;PARTSTAT=ACCEPTED;RSVP=TRUE;CN="Aaron Ha
 wkinns":https://northeastwheelsevents.com/profile/AaronHawkinns
END:VEVENT
END:VCALENDAR
