BEGIN:VCALENDAR
PRODID:NingEventWidget-v1
VERSION:2.0
METHOD:PUBLISH
BEGIN:VEVENT
UID:5167423:Event:249029
DTSTAMP:20260422T091356Z
SUMMARY:National Chrysler Products Club 41st Annual Meet
DESCRIPTION:41st Annual Meet at the Hotel Rock Lititz in Lititz, PA  
 from July 18 thru July 20. Join us for a 3-day event consisting of dri
 ving tours in Lancaster area, walking tours in Downtown Lititz, a fun 
 auction, and a car show on Saturday followed by the awards banquet lat
 er that night. Show dedicated to everything Chrysler. Special membersh
 ip offer for day of show participants.\n\nFor more information visit h
 ttps://northeastwheelsevents.com/events/national-chrysler-products-clu
 b-41st-annual-meet
DTSTART:20190718T040000Z
DTEND:20190721T035900Z
CATEGORIES:car, show
LOCATION:Hotel Rock Lititz
WEBSITE:https://www.nationalchryslerproductsclub.org/
URL:https://www.nationalchryslerproductsclub.org/
CONTACT:7327522114
ORGANIZER:Angela Kline
ATTACH;FMTTYPE="image/jpeg":https://storage.ning.com/topology/rest/1.0
 /file/get/3184424225?profile=original
ATTENDEE;ROLE=REQ-PARTICIPANT;PARTSTAT=ACCEPTED;RSVP=TRUE;CN="Richard 
 Kline":https://northeastwheelsevents.com/profile/RichardKline
END:VEVENT
END:VCALENDAR
