BEGIN:VCALENDAR
PRODID:NingEventWidget-v1
VERSION:2.0
METHOD:PUBLISH
BEGIN:VEVENT
UID:5167423:Event:172806
DTSTAMP:20260425T174436Z
SUMMARY:National Collector Car Appreciation Day
DESCRIPTION:The SEMA Action Network (SAN) announced that the next Coll
 ector Car Appreciation Day (CCAD) will be officially celebrated on Jul
 y 13, 2018.  The date marks the ninth consecutive commemoration in wh
 at is now an annual event to raise awareness of the vital role automot
 ive restoration and collection plays in American society.Intended to c
 elebrate the classics of the past and the future, the U.S. Senate has 
 helped launch CCAD by passing Resolutions each year at the SAN’s req
 uest. The previous resolutions were sponsored by Senator Richard Burr 
 (R-NC) and Senator Jon Tester (D-MT). The Senators have been strong ad
 vocates for the automotive hobby in Washington, D.C., and recognize th
 e integral role collector cars have played in fostering our nation’s
  appreciation for the automobile’s unique historical place in our hi
 story.A list of officially scheduled events to commemorate America’s
  time-tested love affair with the automobile will be posted below. Ind
 ividuals, car clubs and business owners interested in publicizing even
 ts may submit the details of their July celebration at no cost on www
 .NortheastWheelsEvents.com/events For those unable to celebrate on Ju
 ly 13, the SAN encourages events to be scheduled throughout the month
  of July 2018.\n\nFor more information visit https://northeastwheelsev
 ents.com/events/national-collector-car-appreciation-day-1
DTSTART:20180713T040000Z
DTEND:20180714T035900Z
CATEGORIES:national, and, local, events
LOCATION:National and local
WEBSITE:
URL:
CONTACT:
ORGANIZER:SEMA Action Network
ATTACH;FMTTYPE="image/jpeg":http://storage.ning.com/topology/rest/1.0/
 file/get/2284101104?profile=original
ATTENDEE;ROLE=REQ-PARTICIPANT;PARTSTAT=ACCEPTED;RSVP=TRUE;CN="Car Show
 s Little Helper":https://northeastwheelsevents.com/profile/CarShowsLit
 tleHelper
END:VEVENT
END:VCALENDAR
