BEGIN:VCALENDAR
PRODID:NingEventWidget-v1
VERSION:2.0
METHOD:PUBLISH
BEGIN:VEVENT
UID:5167423:Event:17946
DTSTAMP:20260421T112722Z
SUMMARY:National Collector Car Appreciation day
DESCRIPTION:The SEMA Action Network (SAN) announced July 12, 2013 as â
 €śCollectorCar Appreciation Day.â€ť The date marks the fourth commemor
 ation in whathas become an annual event to raise awareness of the vita
 l role automotiverestoration and collection plays in American society.
  SAN is again working to secure a Congressional resolution to recogniz
 e the dayâ€™s significance.In recognition of the day, thousands of Ame
 ricans will gather at car cruises, parades and other events to celebra
 te our nationâ€™s automotive heritage. By taking part in these events 
 around the country, these automotive enthusiastsand related businesses
  ensure that their passion is honored and recognized.For the listing o
 f National Collector Car Appreciation Day events, visitwww.SEMASAN.com
 /CCAD. Individuals, car clubs and business owners interested in public
 izing events should contact SAN Director Colby Martin at 909/978-6721 
 or san@sema.org. If you own an antique, muscle car, hot rod or any oth
 er collector car, celebrate this historic day by attending a car show,
  club gathering cruise-in, or simply by driving and being seen in your
  special ride on Friday, July 12, 2013. Share your experiences and pho
 tos on SANâ€™s Facebook page. If you are unable to celebrate on July 1
 2th, SAN encourages events to be scheduled throughout the month of Jul
 y.W\n\nFor more information visit https://northeastwheelsevents.com/ev
 ents/national-collector-car-appreciation-day
DTSTART:20130712T040000Z
DTEND:20130713T035900Z
CATEGORIES:national, event
LOCATION:National and regional
WEBSITE:http://www.SEMASAN.com/CCAD
URL:http://www.SEMASAN.com/CCAD
CONTACT:909 978-6721
ORGANIZER:SEMA Colby Martin
ATTACH;FMTTYPE="image/jpeg":http://storage.ning.com/topology/rest/1.0/
 file/get/2284049310?profile=original
ATTENDEE;ROLE=REQ-PARTICIPANT;PARTSTAT=ACCEPTED;RSVP=TRUE;CN="Pamela H
 irschhorn":https://northeastwheelsevents.com/profile/PamelaHirschhorn
END:VEVENT
END:VCALENDAR
