BEGIN:VCALENDAR
PRODID:NingEventWidget-v1
VERSION:2.0
METHOD:PUBLISH
BEGIN:VEVENT
UID:5167423:Event:312609
DTSTAMP:20260422T232344Z
SUMMARY:National Street Rod Association's Northeast Street Rod Nationa
 ls
DESCRIPTION:September 15th, 16th & 17th, 2023\n\nTo register your vehi
 cle online for this event, go here: https://form.jotform.com/V2Media/e
 ntry-form-northeast-2023\nTo download, print and mail in your registra
 tion, go here: https://nsra-usa.com/.../12/EntryForm-Northeast-2023.pd
 f\nNo online or mail-in entries accepted after Friday, August 25th, 20
 23. Discount available through Friday, August 25th, 2023.\n\nAfter Aug
 ust 25th, we will be only accept vehicle registrations at: Hampton Inn
 , 42 Lower Mountain View Drive in Colchester.\n\nRegistration days and
  hours:Thursday, September 14th from 12 noon to 6pm\nFriday, September
  15th from 9am to 6pm\nSaturday, September 16th from 9am to 2pm\n\nNSR
 A Member $50.00, Non-Member $85.00\n.\nSPECTATOR GATE HOURS: Friday: 8
 :00 a.m. to 5:00 p.m.Saturday: 8:00 a.m. to 5:00 p.m.Sunday: 8:00 a.m.
  to 12:30 p.m.\n\nSPECTATOR ADMISSION:\n$19.00 – 13 YEARS AND OLDER$
 6.00 – CHILDREN 6 THROUGH 12. FREE – CHILDREN 5 AND UNDER WHEN ACC
 OMPANIED BY AN ADULT.\n$40.00 – FAMILY – 2 ADULTS & 3 CHILDREN (12
  YEARS AND YOUNGER).\n\nA special discounted $17.00 admission is avail
 able for military personnel with proper military identification, NSRA 
 members with their current membership card or anyone 60 years of age a
 nd older. One discounted admission per person.\n\nDiscount Tickets ava
 ilable at any O’Reilly Auto Parts store.\n\n\n\nFor more information
  visit https://northeastwheelsevents.com/events/national-street-rod-as
 sociation-s-northeast-street-rod-nationals
DTSTART:20230915T120000Z
DTEND:20230917T170000Z
CATEGORIES:car, show
LOCATION:Champlain Valley Exposition
WEBSITE:
URL:
CONTACT:
ORGANIZER;CN="Craig Meads":https://northeastwheelsevents.com/profile/C
 raigMeads
ATTACH;FMTTYPE="image/jpeg":https://storage.ning.com/topology/rest/1.0
 /file/get/11001036652?profile=original
ATTENDEE;ROLE=REQ-PARTICIPANT;PARTSTAT=ACCEPTED;RSVP=TRUE;CN="Craig Me
 ads":https://northeastwheelsevents.com/profile/CraigMeads
END:VEVENT
END:VCALENDAR
