BEGIN:VCALENDAR
PRODID:NingEventWidget-v1
VERSION:2.0
METHOD:PUBLISH
BEGIN:VEVENT
UID:5167423:Event:217890
DTSTAMP:20260420T034403Z
SUMMARY:Nazareth Days Car Show
DESCRIPTION:This year we will hold the 43 Annual Nazareth Days Show. T
 he date for 2019 will be Saturday July 20, 2019 9am to 3pm. This show 
 is open to all years Domistic and Foreign Vehicles No Motorcycles  The
  first 200 Vehicles that arrive at the show between 9am and noon will 
 get a photo taken of your vehicle, which will be mounted to a plaque. 
 Due to assembly time the plaque and picture will not be available for 
 pickup until 2pm. Pre-register by July 1, cost $15.00 Day of Show $20.
 00. Rain date Sunday July 21,2019 For Show form email spokes5662@gmail
 .com After all costs are paid the profit is divided 1/3 to the Nazaret
 h Food bank 1/3 to the Lehigh Valley Pediatric Assoc. an 1/3 to the Le
 high Valley Thunderbird Club for smaller member requested donations an
  events.\n\nFor more information visit https://northeastwheelsevents.c
 om/events/nazareth-days-car-show
DTSTART:20190720T130000Z
DTEND:20190720T190000Z
CATEGORIES:car, show
LOCATION:Nazareth Borough Park
WEBSITE:
URL:
CONTACT:610-218-1500
ORGANIZER:The Lehigh Valley Thunderbird Club
ATTACH;FMTTYPE="image/jpeg":
ATTENDEE;ROLE=REQ-PARTICIPANT;PARTSTAT=ACCEPTED;RSVP=TRUE;CN="Thomas R
 . Hollenbach":https://northeastwheelsevents.com/profile/ThomasRHollenb
 ach
END:VEVENT
END:VCALENDAR
