BEGIN:VCALENDAR
PRODID:NingEventWidget-v1
VERSION:2.0
METHOD:PUBLISH
BEGIN:VEVENT
UID:5167423:Event:154468
DTSTAMP:20260423T083628Z
SUMMARY:NCPC And New Holland Auto ALL Mopar Show
DESCRIPTION:The National Chrysler products Club along with New Holland
  Auto is hosting a car show in New Holland, Pennsylvania at CNH Indust
 rial a little over a month from now on July 8th.\n\nIt is an all Mopar
  show with free admission to all participants. There will be two ramin
 ator trucks giving rides to people for free and crushing cars towards 
 the end of the event.\n\nThis all Mopar show will have over 40 awards:
 \n-Top 30\n\n-6 different \"best of\" trophies:\n1) Best Classic (Pre-
 1965)\n2) Best Mopar Muscle (1965-1975)\n3) Best Late Model (1976-2005
 )\n4) Best Modern Mopar (2006-2017)\n5) Best Modified\n6) Best of Show
 \n\n-3 People's Choice:\n1) Participants' Choice\n2) Club's Favorite\n
 3) Penske's Pick (selection by Geoff Penske, nephew of Roger Penske)\n
 \n-1 Dealer's Choice\n\nThe event will conclude with a loudest exhaust
  competition with a special award going to the winner and runner up!\n
 \nEvent schedule:\n\n9 a.m. - Showfield opens, free admission and regi
 stration to participants\n\n10:30 a.m. - Event begins, free for all sp
 ectators\n\n12 p.m. - Judging begins\n\n12:30 p.m. - Show registration
  closes\n\n2 p.m. - Judging concludes, all participant votes must be s
 ubmitted\n\n2:15 p.m. - Raminator Car Crush begins\n\n2:30 p.m. - Awar
 ds ceremony begins, followed by exhaust contest\n\nFor more informatio
 n visit https://northeastwheelsevents.com/events/ncpc-and-new-holland-
 auto-all-mopar-show
DTSTART:20170708T130000Z
DTEND:20170708T190000Z
CATEGORIES:all, mopar, car, show
LOCATION:CNH Industrial
WEBSITE:https://www.facebook.com/events/1867004350226896/?ti=cl
URL:https://www.facebook.com/events/1867004350226896/?ti=cl
CONTACT:267 934 1868
ORGANIZER:Alexander Liebergall
ATTACH;FMTTYPE="image/jpeg":http://storage.ning.com/topology/rest/1.0/
 file/get/2284099455?profile=original
ATTENDEE;ROLE=REQ-PARTICIPANT;PARTSTAT=ACCEPTED;RSVP=TRUE;CN=Alexander
 :https://northeastwheelsevents.com/profile/Alexander
END:VEVENT
END:VCALENDAR
