BEGIN:VCALENDAR
PRODID:NingEventWidget-v1
VERSION:2.0
METHOD:PUBLISH
BEGIN:VEVENT
UID:5167423:Event:331333
DTSTAMP:20260425T222905Z
SUMMARY:NCPD's 8th Annual Fallen Heros Car Show
DESCRIPTION:NCPD's 8th Annual Fallen Heroes Car Show\r\nCome join us a
 t Norco Fire Co for a day filled with cars, music, raffles, and deli
 cious food at NCPD's 8th Annual Fallen Heroes Car Show! Show off your
  ride or simply enjoy browsing through a variety of vehicles on displa
 y. This is a great opportunity to support our local heroes and their f
 amilies while having a blast with fellow car enthusiasts. This years s
 how is again geared towards raising money for the Lodge 11 FOP Foundat
 ion which helps all first responders in our area. $15 for pregistratio
 n, $20 day of show.\r\n\r\nAgenda\r\n\r\n\r\n\r\n\r\n\r\n08:00 - 11:
 00\r\nRegistration\r\n\r\n\r\n\r\n\r\n11:00 - 14:00\r\nShowing/Judgi
 ng\r\n\r\n\r\n\r\n\r\n14:00 - 14:00\r\nTrophies/Raffles Awarded\r\n\
 r\n\r\n\r\n\r\nThis is a PROFESSIONALLY JUDGED Show!\r\nCASH PRIZES aw
 arded to Best of Show Car, Best of Show Truck, 2nd Place and 3rd Place
 .\r\nTop 100 vehicles will be awarded trophies!\r\nFirst 100 vehicles 
 registered get a dash plaque as well as goody bags being handed out wh
 ile supplies last!\r\nThis year someone will drive away in a 2024 Chev
 rolet Corvette. Additional Prizes are with this raffle. Go to this lin
 k to purchase your chance to drive away in this amazing Corvette. \r\
 nhttps://chestercountyfopstore.unionactive.com/product/norco-car-raffl
 e-2024/\r\nDon't miss out on this spectacular event! Check website for
  info. and tickets. https://www.eventbrite.com/e/ncpds-8th-annual-fal
 len-heroes-car-show-tickets-887562392007\r\nEmail: news@mt-peaks.comPh
 one: 570-249-1233\n\nFor more information visit https://northeastwheel
 sevents.com/events/ncpd-s-8th-annual-fallen-heros-car-show
DTSTART:20240810T150000Z
DTEND:20240810T180000Z
CATEGORIES:carshow, benefit
LOCATION:NORCO Fire grounds
WEBSITE:https://mt-peaks.com/calendar#!/details/ncpd-s-8th-annual-fall
 en-heroes-car-show/13692451/2024-08-10T11
URL:https://mt-peaks.com/calendar#!/details/ncpd-s-8th-annual-fallen-h
 eroes-car-show/13692451/2024-08-10T11
CONTACT:570-249-1233
ORGANIZER:NORCO Fire Department
ATTACH;FMTTYPE="image/jpeg":https://storage.ning.com/topology/rest/1.0
 /file/get/12752958279?profile=original
ATTENDEE;ROLE=REQ-PARTICIPANT;PARTSTAT=ACCEPTED;RSVP=TRUE;CN="William 
 Bruce":https://northeastwheelsevents.com/profile/WilliamBruce
END:VEVENT
END:VCALENDAR
