BEGIN:VCALENDAR
PRODID:NingEventWidget-v1
VERSION:2.0
METHOD:PUBLISH
BEGIN:VEVENT
UID:5167423:Event:145278
DTSTAMP:20260423T020402Z
SUMMARY:NECC Motorsports at Pocono - High Performance Driving
DESCRIPTION:We are offering our full High Performance Driving option c
 onsisting of open track sessions from all day with timed laps mid afte
 rnoon.  Price: a mere $250 per driver. In addition, we are also offer
 ing two fifteen-minute \"Taste of the Track\" lapping sessions for $75
  per driver.   These are not wheel-to-wheel racing events.  Passing
  is limited to certain sections of the track designated by our Operati
 ons Director.We are also doing the same kind of event at New York Safe
 ty Track this year on June 23.  Same low prices.  Sign up for both!\
 n\nFor more information visit https://northeastwheelsevents.com/events
 /necc-motorsports-at-pocono-high-performance-driving
DTSTART:20170716T110000Z
DTEND:20170716T210000Z
CATEGORIES:high, performance, driving, at, "pocono."
LOCATION:Pocono Raceway - South Infield Road Course
WEBSITE:http://www.neccmotorsports.com
URL:http://www.neccmotorsports.com
CONTACT:
ORGANIZER:Brian O'Neill
ATTACH;FMTTYPE="image/jpeg":
ATTENDEE;ROLE=REQ-PARTICIPANT;PARTSTAT=ACCEPTED;RSVP=TRUE;CN="Allan V.
  Lacki":https://northeastwheelsevents.com/profile/AllanVLacki
END:VEVENT
END:VCALENDAR
