BEGIN:VCALENDAR
PRODID:NingEventWidget-v1
VERSION:2.0
METHOD:PUBLISH
BEGIN:VEVENT
UID:5167423:Event:312903
DTSTAMP:20260425T201118Z
SUMMARY:New England Chevelle and El Camino spring meet
DESCRIPTION:New England Chevelle and El Camino spring dust off at High
  Octane Classics. Cars & Coffee 10am to noon. High Octane Classics is 
 New England's largest Muscle and Super Car store.\n\nFor more informat
 ion visit https://northeastwheelsevents.com/events/new-england-chevell
 e-and-el-camino-spring-meet
DTSTART:20230422T140000Z
DTEND:20230422T180000Z
CATEGORIES:classic, car, show, muscle, cars, "chevelle's", el, camino
LOCATION:High Octane Classics
WEBSITE:http://Highoctaneclassics.com
URL:http://Highoctaneclassics.com
CONTACT:774.275.0304
ORGANIZER:New England Chevelle and El Camino Club
ATTACH;FMTTYPE="image/jpeg":https://storage.ning.com/topology/rest/1.0
 /file/get/11000492101?profile=original
ATTENDEE;ROLE=REQ-PARTICIPANT;PARTSTAT=ACCEPTED;RSVP=TRUE;CN="Gregg An
 derson":https://northeastwheelsevents.com/profile/GreggAnderson
END:VEVENT
END:VCALENDAR
