BEGIN:VCALENDAR
PRODID:NingEventWidget-v1
VERSION:2.0
METHOD:PUBLISH
BEGIN:VEVENT
UID:5167423:Event:22151
DTSTAMP:20260422T030814Z
SUMMARY:New England Summer Nationals
DESCRIPTION:new location Thompson International Speedway\nFlame-Throwe
 rs, Beauty Pageant, Tattoos, Controlled Burn Outs, Bikini Contest, Dri
 ve-In Theater 25’x25’ Free Grand Stand Seating for Show participan
 tsWILD AND CRAZY MOTORCYCLE STUNTS!Grassy Level Club parking\n\nFor mo
 re information visit https://northeastwheelsevents.com/events/new-engl
 and-summer-nationals
DTSTART:20130704T040000Z
DTEND:20130708T035900Z
CATEGORIES:show
LOCATION:Thompson, CT 06277
WEBSITE:http://summernationals.com
URL:http://summernationals.com
CONTACT:508-987-2097
ORGANIZER:Moscoffian Performance
ATTACH;FMTTYPE="image/jpeg":
ATTENDEE;ROLE=REQ-PARTICIPANT;PARTSTAT=ACCEPTED;RSVP=TRUE;CN="Pamela H
 irschhorn":https://northeastwheelsevents.com/profile/PamelaHirschhorn
END:VEVENT
END:VCALENDAR
