BEGIN:VCALENDAR
PRODID:NingEventWidget-v1
VERSION:2.0
METHOD:PUBLISH
BEGIN:VEVENT
UID:5167423:Event:18206
DTSTAMP:20260421T160421Z
SUMMARY:New Jersey Motorsports Park Job Fair -Millville, NJ
DESCRIPTION:\n\n\nHaving trouble viewing this email? Click here\n\n\n\
 n\n\n\n\n\n\n\n\n\n\n\n\n\n\n\n\nNew Jersey Motorsports Park47 Warbird
  DriveGPS: 8000 Dividing Creek RdMillville, New Jersey 08332United Sta
 tes(856) 327-8000\n\n\n\n\n\n\n\n\n\n\n\n\n\n\n\n\nFor more informatio
 n visit https://northeastwheelsevents.com/events/new-jersey-motorsport
 s-park-job-fair-millville-nj
DTSTART:20130206T200000Z
DTEND:20130207T000000Z
CATEGORIES:job, fair
LOCATION:Officer's Club on Thunderbolt
WEBSITE:http://www.njmp.com/
URL:http://www.njmp.com/
CONTACT:Lori Pratt - 856-327-7245
ORGANIZER:NJ Motorsport Park
ATTACH;FMTTYPE="image/jpeg":http://storage.ning.com/topology/rest/1.0/
 file/get/2284048434?profile=original
ATTENDEE;ROLE=REQ-PARTICIPANT;PARTSTAT=ACCEPTED;RSVP=TRUE;CN="Michael 
 Thies":https://northeastwheelsevents.com/profile/MichaelThies
END:VEVENT
END:VCALENDAR
