BEGIN:VCALENDAR
PRODID:NingEventWidget-v1
VERSION:2.0
METHOD:PUBLISH
BEGIN:VEVENT
UID:5167423:Event:189931
DTSTAMP:20260420T002338Z
SUMMARY:New York AutoFest at Chelsea Mansion in Muttontown Preserve
DESCRIPTION:Fully judged in 44 classes\n$25 per show vehicle, Spectato
 rs $5, under 12 free \n(rain date 7/29/18)\n\nFor more information vi
 sit https://northeastwheelsevents.com/events/new-york-autofest-at-chel
 sea-mansion-in-muttontown-preserve
DTSTART:20180715T130000Z
DTEND:20180715T200000Z
CATEGORIES:car, show
LOCATION:Chelsea Mansion
WEBSITE:
URL:
CONTACT:516-882-5022
ORGANIZER:New York AutoFest
ATTACH;FMTTYPE="image/jpeg":http://storage.ning.com/topology/rest/1.0/
 file/get/2284110560?profile=original
ATTENDEE;ROLE=REQ-PARTICIPANT;PARTSTAT=ACCEPTED;RSVP=TRUE;CN="Car Show
 s Little Helper":https://northeastwheelsevents.com/profile/CarShowsLit
 tleHelper
END:VEVENT
END:VCALENDAR
