BEGIN:VCALENDAR
PRODID:NingEventWidget-v1
VERSION:2.0
METHOD:PUBLISH
BEGIN:VEVENT
UID:5167423:Event:725
DTSTAMP:20260423T033234Z
SUMMARY:New York AutoFest & Sheriff's Widow's & Children's    Farmingv
 ille, NY
DESCRIPTION:New York AutoFest and the Nassau County Sheriff Officers A
 ssociation present the 2nd Annual Widow's and Children's Fundraiser Ca
 r Show at Bald Hill, Farmingville, NY 11738\n\nEvent flyer: http://nya
 utofest.com\n\nOpen to all cars, trucks, and motorcycles\n\nFees: Show
  cars $20, Spectators $5.00 (under 12 free)\n\nGoody bags to the first
  200 vehicles\nImpressive awards\nLive music, Food, Vendors\nDoor priz
 es, 50/50 drawing\n\nFor more information visit https://northeastwheel
 sevents.com/events/new-york-autofest-sheriffs
DTSTART:20100801T120000Z
DTEND:20100801T210000Z
CATEGORIES:fundraiser, car, show
LOCATION:Car Show at Bald Hill
WEBSITE:http://nyautofest.com
URL:http://nyautofest.com
CONTACT:516-620-5212
ORGANIZER:Leo
ATTACH;FMTTYPE="image/jpeg":
ATTENDEE;ROLE=REQ-PARTICIPANT;PARTSTAT=ACCEPTED;RSVP=TRUE;CN="Richard 
 Scott":https://northeastwheelsevents.com/profile/RichardScott
END:VEVENT
END:VCALENDAR
