BEGIN:VCALENDAR
PRODID:NingEventWidget-v1
VERSION:2.0
METHOD:PUBLISH
BEGIN:VEVENT
UID:5167423:Event:38921
DTSTAMP:20260424T135629Z
SUMMARY:New York AutoFest Spring is Sprung Car Show
DESCRIPTION:New York AutoFest Spring is Sprung Lei'd Back Car Show at 
 Tappen Beach, 494 Prospect Ave., Sea Cliff, NY 11579 to benefit the Fl
 ags for Classrooms ProjectEvent flyer: www.nyautofest.comFun for the w
 hole family, open to all cars, trucks, and motorcycles. Fees: Show car
 s $20, spectators $5.00 (under 12 free)Impressive awards in numerous j
 udged classes, Best in Show, many other special awardsLive music, Food
 , Vendors, Craft Fair, 50/50 drawingMajor sponsorships and trophy spon
 sorships available, call or email for info - Leo tel: 516-882-5022 ema
 il: info@nyautofest.com\n\nFor more information visit https://northeas
 twheelsevents.com/events/new-york-autofest-spring-is-sprung-car-show-1
DTSTART:20140413T120000Z
DTEND:20140413T200000Z
CATEGORIES:car, show, fundraiser
LOCATION:Tappen Beach
WEBSITE:https://www.google.com/maps/place/494+Prospect+Ave/@40.8363075
 ,-73.6508025,17z/data=!3m1!4b1!4m2!3m1!1s0x89c285f77e91de85:0xfaa0d7d3
 b43dbce0
URL:https://www.google.com/maps/place/494+Prospect+Ave/@40.8363075,-73
 .6508025,17z/data=!3m1!4b1!4m2!3m1!1s0x89c285f77e91de85:0xfaa0d7d3b43d
 bce0
CONTACT:516-882-5022
ORGANIZER:New York AutoFest
ATTACH;FMTTYPE="image/jpeg":http://storage.ning.com/topology/rest/1.0/
 file/get/2284057734?profile=original
ATTENDEE;ROLE=REQ-PARTICIPANT;PARTSTAT=ACCEPTED;RSVP=TRUE;CN="Leo Cerr
 uti":https://northeastwheelsevents.com/profile/LeoCerruti
END:VEVENT
END:VCALENDAR
