BEGIN:VCALENDAR
PRODID:NingEventWidget-v1
VERSION:2.0
METHOD:PUBLISH
BEGIN:VEVENT
UID:5167423:Event:40068
DTSTAMP:20260424T183956Z
SUMMARY:New York International Auto Show
DESCRIPTION:Mark your calendars, we will be back at the Jacob Javits C
 enter from April 18 - 27, 2014 and we will have some of the hottest ca
 rs and trucks ever seen all under one roof. That means more sneak peek
 s, more brand new '14 & '15 production models and more concept vehicle
 s than ever before.\n\nPublic Show Dates\nFriday April 18th through Su
 nday April 27thMonday - Saturday: 10am - 10pm *(Sundays: 10am - 7pm)*\
 n\nOfficial Opening Day\nSaturday April 19thFestivities begin at 8:30a
 mSHOW FLOOR OPENS AT 10am\n\n\n\n\nFor more information visit https://
 northeastwheelsevents.com/events/new-york-international-auto-show-1
DTSTART:20140418T140000Z
DTEND:20140427T230000Z
CATEGORIES:car, show
LOCATION:Jacob Javits Convention Center
WEBSITE:http://www.autoshowny.com
URL:http://www.autoshowny.com
CONTACT:800-282-3336
ORGANIZER:Greater New York Automobile Dealers Association
ATTACH;FMTTYPE="image/jpeg":http://storage.ning.com/topology/rest/1.0/
 file/get/2284059505?profile=original
ATTENDEE;ROLE=REQ-PARTICIPANT;PARTSTAT=ACCEPTED;RSVP=TRUE;CN="Pamela H
 irschhorn":https://northeastwheelsevents.com/profile/PamelaHirschhorn
END:VEVENT
END:VCALENDAR
