BEGIN:VCALENDAR
PRODID:NingEventWidget-v1
VERSION:2.0
METHOD:PUBLISH
BEGIN:VEVENT
UID:5167423:Event:348834
DTSTAMP:20260423T215330Z
SUMMARY:New York International Auto Show
DESCRIPTION:Ushering in the latest automotive trends, the New York Int
 ernational Auto Show showcases an incredible collection of cutting-edg
 e design and extraordinary innovation. More than two floors of display
 s from the world’s automakers feature the newest vehicles will be br
 ought to the NYIAS.\nThe New York International Auto Show is easy to g
 et to from anywhere in the tri-state area. There are many parking faci
 lities in the area, plus mass transit (Subway, Busses, LIRR, NY Waterw
 ay Ferry, Metro North, NJ Transit, Amtrak).Friday, April 3 to Sunday, 
 April 12, 2026Monday - Thursday 10am - 8pmFridays & Saturdays 10am - 1
 0pmSunday 10am - 7pm(Open on Easter Sunday)\n\nFor more information vi
 sit https://northeastwheelsevents.com/events/new-york-international-au
 to-show-6
DTSTART:20260403T140000Z
DTEND:20260412T230000Z
CATEGORIES:auto, show
LOCATION:Jacob Javits Center
WEBSITE:https://autoshowny.com/
URL:https://autoshowny.com/
CONTACT:info@autoshowny.com
ORGANIZER:Greater New York Automobile Dealers Association
ATTACH;FMTTYPE="image/jpeg":https://storage.ning.com/topology/rest/1.0
 /file/get/31101262463?profile=original
ATTENDEE;ROLE=REQ-PARTICIPANT;PARTSTAT=ACCEPTED;RSVP=TRUE;CN="Car Show
 s Little Helper":https://northeastwheelsevents.com/profile/CarShowsLit
 tleHelper
ATTENDEE;ROLE=REQ-PARTICIPANT;PARTSTAT=TENTATIVE;RSVP=TRUE;CN="William
  Bruce":https://northeastwheelsevents.com/profile/WilliamBruce
END:VEVENT
END:VCALENDAR
