BEGIN:VCALENDAR
PRODID:NingEventWidget-v1
VERSION:2.0
METHOD:PUBLISH
BEGIN:VEVENT
UID:5167423:Event:138162
DTSTAMP:20260424T105349Z
SUMMARY:New York Motorcycle Show
DESCRIPTION:\nDECEMBER 09 - 11, 2016\n\n\nSHOW HOURS Friday 2:00pm - 9
 :00pm\nSaturday 9:00am - 9:00pm\n\n\n\n\n\n\nSunday 9:00am - 5:00pm\n\
 n\n\n\n\n\n\n\n\nTICKET PRICES \nAdults $20.00 Kids - 11yr and under 
 Free\n\n\n\n\n\n\n\n\n\n\nFor more information visit https://northeast
 wheelsevents.com/events/new-york-motorcycle-show
DTSTART:20161209T190000Z
DTEND:20161211T220000Z
CATEGORIES:motorcycle, show
LOCATION:Jacob Javits Convention Center, NY NY
WEBSITE:http://motorcycleshows.com/newyork
URL:http://motorcycleshows.com/newyork
CONTACT:(800) 331-5706
ORGANIZER:Progressive International Motorcycle hows
ATTACH;FMTTYPE="image/jpeg":http://storage.ning.com/topology/rest/1.0/
 file/get/2284095597?profile=original
ATTENDEE;ROLE=REQ-PARTICIPANT;PARTSTAT=ACCEPTED;RSVP=TRUE;CN="Pamela H
 irschhorn":https://northeastwheelsevents.com/profile/PamelaHirschhorn
END:VEVENT
END:VCALENDAR
