BEGIN:VCALENDAR
PRODID:NingEventWidget-v1
VERSION:2.0
METHOD:PUBLISH
BEGIN:VEVENT
UID:5167423:Event:61907
DTSTAMP:20260423T122605Z
SUMMARY:New York Progressive Intl Motorcycle Show
DESCRIPTION:Get your all access pass to the powersports world with hun
 dreds of the hottest street bikes, dirt bikes, cruisers, scooters, sid
 e-by-sides and ATVs for both new and experienced riders. From the late
 st gear and aftermarket accessories to informative seminars and intera
 ctive entertainment, this thrilling event is the place to experience t
 he latest in the world of motorcycling.\n\nFor more information visit 
 https://northeastwheelsevents.com/events/new-york-progressive-intl-mot
 orcycle-show
DTSTART:20141212T180000Z
DTEND:20141214T220000Z
CATEGORIES:motorcycle, show
LOCATION:Jacob Javits Center, New York City
WEBSITE:http://www.motorcycleshows.com/new-york
URL:http://www.motorcycleshows.com/new-york
CONTACT:212-542-1990
ORGANIZER:ADVANSTAR COMMUNICATIONS INC
ATTACH;FMTTYPE="image/jpeg":http://storage.ning.com/topology/rest/1.0/
 file/get/2284070098?profile=original
ATTENDEE;ROLE=REQ-PARTICIPANT;PARTSTAT=ACCEPTED;RSVP=TRUE;CN="Pamela H
 irschhorn":https://northeastwheelsevents.com/profile/PamelaHirschhorn
END:VEVENT
END:VCALENDAR
