BEGIN:VCALENDAR
PRODID:NingEventWidget-v1
VERSION:2.0
METHOD:PUBLISH
BEGIN:VEVENT
UID:5167423:Event:173996
DTSTAMP:20260424T031918Z
SUMMARY:Newbie Dash Instructional Road Rally
DESCRIPTION:This will be a great way for newcomers and novice teams to
  learn a little more about the basics of road rallying with the Philly
  Region and rally in general.  We’ll work our way from the Yardley,
  PA area north towards Upper Bucks County.\n\nThe specific instruction
 s are written so that teams can gradually learn the ropes of rallying 
 with the PhillySCCA and not get (too) lost.  The roads on this rally 
 are all paved and any car can handle this event.\n\nWe're asking that 
 teams that have participated as experienced and/or have won trophies 
 in our past events sit this one out as there are only 15 spots availab
 le for this event.  If we have space before registration closes we wi
 ll open them to everyone.\n\nRegistration at the event opens at 10:00 
 AM, driver's meeting is at 10:30 AM, and 1st car is off at 11:01 AM.
   This rally will take a little over 2 hours to complete and will en
 d up in the vicinity of Peace Valley Park in Doylestown.\n\n\nFor mor
 e information visit https://northeastwheelsevents.com/events/newbie-da
 sh-instructional-road-rally
DTSTART:20180324T040000Z
DTEND:20180325T035900Z
CATEGORIES:road, rally
LOCATION:Bucks County
WEBSITE:http://www.motorsportreg.com/events/newbie-dash-yardley-park-r
 ide-scca-philadelphia-507683
URL:http://www.motorsportreg.com/events/newbie-dash-yardley-park-ride-
 scca-philadelphia-507683
CONTACT:
ORGANIZER;CN="Jonathan Love":https://northeastwheelsevents.com/profile
 /JonathanLove
ATTACH;FMTTYPE="image/jpeg":http://storage.ning.com/topology/rest/1.0/
 file/get/2284101799?profile=original
ATTENDEE;ROLE=REQ-PARTICIPANT;PARTSTAT=ACCEPTED;RSVP=TRUE;CN="Jonathan
  Love":https://northeastwheelsevents.com/profile/JonathanLove
END:VEVENT
END:VCALENDAR
