BEGIN:VCALENDAR
PRODID:NingEventWidget-v1
VERSION:2.0
METHOD:PUBLISH
BEGIN:VEVENT
UID:5167423:Event:65161
DTSTAMP:20260421T042201Z
SUMMARY:Newton Wayne Vol. Fire Company
DESCRIPTION:Newton Wayne Vol, Fire Company is having a Car and Craft s
 how so everyone is welcome to bring a vehicle or look at getting a ven
 dor spot.\n\nFor more information visit https://northeastwheelsevents.
 com/events/newton-wayne-vol-fire-company
DTSTART:20150613T120000Z
DTEND:20150613T190000Z
CATEGORIES:fun
LOCATION:Newton Wayne Vol. Fire House
WEBSITE:
URL:
CONTACT:1-814-542-9643
ORGANIZER;CN="Newton Hamilton":https://northeastwheelsevents.com/profi
 le/NewtonHamilton
ATTACH;FMTTYPE="image/jpeg":http://storage.ning.com/topology/rest/1.0/
 file/get/2284067067?profile=original
ATTENDEE;ROLE=REQ-PARTICIPANT;PARTSTAT=ACCEPTED;RSVP=TRUE;CN="Newton H
 amilton":https://northeastwheelsevents.com/profile/NewtonHamilton
END:VEVENT
END:VCALENDAR
