BEGIN:VCALENDAR
PRODID:NingEventWidget-v1
VERSION:2.0
METHOD:PUBLISH
BEGIN:VEVENT
UID:5167423:Event:64076
DTSTAMP:20260423T012450Z
SUMMARY:Night At The Museum
DESCRIPTION:Free admission!\nNIGHT AT THE MUSEUM FAMILY PROGRAM\nGames
  and activities for the kiddos, and for the whole family to enjoy, dur
 ing this special evening event! Visit the museum in the off-season, an
 d get a sneak-peak at the new acquisition, a 1904 Searchmont Touring c
 ar, before the museum officially opens for the season in the spring. 
  6:00 p.m. - 8:00 p.m.\n\nFor more information visit https://northeast
 wheelsevents.com/events/night-at-the-museum-1
DTSTART:20150124T230000Z
DTEND:20150125T010000Z
CATEGORIES:open, "house."
LOCATION:Seal Cove Auto Museum
WEBSITE:http://www.sealcoveautomuseum.org/
URL:http://www.sealcoveautomuseum.org/
CONTACT:(207) 244-9242
ORGANIZER:Seal Cove Auto Museum
ATTACH;FMTTYPE="image/jpeg":http://storage.ning.com/topology/rest/1.0/
 file/get/2284066546?profile=original
ATTENDEE;ROLE=REQ-PARTICIPANT;PARTSTAT=ACCEPTED;RSVP=TRUE;CN="Albert M
 ach":https://northeastwheelsevents.com/profile/1lr9x74d5lfem
END:VEVENT
END:VCALENDAR
