BEGIN:VCALENDAR
PRODID:NingEventWidget-v1
VERSION:2.0
METHOD:PUBLISH
BEGIN:VEVENT
UID:5167423:Event:65360
DTSTAMP:20260421T105734Z
SUMMARY:NJ JEEP INVASION
DESCRIPTION:NJ JEEP INVASION TICKETS AND INFORMATION\n\nFor more infor
 mation visit https://northeastwheelsevents.com/events/nj-jeep-invasion
DTSTART:20150619T210000Z
DTEND:20150621T190000Z
CATEGORIES:jeep, show
LOCATION:WILDWOOD NJ
WEBSITE:http://www.eventbrite.com/e/2015-nj-jeep-invasion-tickets-1512
 4309216
URL:http://www.eventbrite.com/e/2015-nj-jeep-invasion-tickets-15124309
 216
CONTACT:
ORGANIZER:New Jersey Jeep Association
ATTACH;FMTTYPE="image/jpeg":http://storage.ning.com/topology/rest/1.0/
 file/get/2284068064?profile=original
ATTENDEE;ROLE=REQ-PARTICIPANT;PARTSTAT=ACCEPTED;RSVP=TRUE;CN="Jamie Lo
 ngmuir":https://northeastwheelsevents.com/profile/JamieLongmuir
END:VEVENT
END:VCALENDAR
