BEGIN:VCALENDAR
PRODID:NingEventWidget-v1
VERSION:2.0
METHOD:PUBLISH
BEGIN:VEVENT
UID:5167423:Event:115969
DTSTAMP:20260425T071714Z
SUMMARY:Normandie Ridge Senior Center Car Show
DESCRIPTION:Free lunch for driver and passenger, trophies, dash plaque
 s, door prizes. CALL FOR INFORMATION\n\nFor more information visit htt
 ps://northeastwheelsevents.com/events/normandie-ridge-senior-center-ca
 r-show
DTSTART:20160611T140000Z
DTEND:20160611T180000Z
CATEGORIES:car, show
LOCATION:Normandie Ridge Senior Center
WEBSITE:
URL:
CONTACT:570 539-2314
ORGANIZER:Robert Heidlebaugh
ATTACH;FMTTYPE="image/jpeg":http://storage.ning.com/topology/rest/1.0/
 file/get/2284087430?profile=original
ATTENDEE;ROLE=REQ-PARTICIPANT;PARTSTAT=ACCEPTED;RSVP=TRUE;CN="Pamela H
 irschhorn":https://northeastwheelsevents.com/profile/PamelaHirschhorn
END:VEVENT
END:VCALENDAR
