BEGIN:VCALENDAR
PRODID:NingEventWidget-v1
VERSION:2.0
METHOD:PUBLISH
BEGIN:VEVENT
UID:5167423:Event:222433
DTSTAMP:20260421T175832Z
SUMMARY:North American International Auto Show
DESCRIPTION:Experience an automotive event unlike any other. At NAIAS,
  you have the opportunity to see up-close the vehicles and technologie
 s that will shape the future automotive landscape. From muscle and ele
 ctric cars, to high-performance supercars and full-size trucks, NAIAS 
 has something for everyone to enjoy. Tickets areÂ $14Â per adult;Â $7Â
  for seniors ages 65 and older;Â $7Â for children ages 7 to 12; and fr
 ee for children 6 years old and under with a parent or guardian.\n\nEV
 ENTS\n\n\nEyes On Design Awards\nEducation Day\nDaily Activities\nAuto
  Show 5K\nPoster Contest\nCourageous Persuaders Video Contest\n\nEarly
  access for handicapped individuals 8 a.m. each day\n\n\n\n\nFor more 
 information visit https://northeastwheelsevents.com/events/north-ameri
 can-international-auto-show
DTSTART:20190119T140000Z
DTEND:20190127T230000Z
CATEGORIES:international, auto, show
LOCATION:Cobo Center
WEBSITE:https://naias.com
URL:https://naias.com
CONTACT:248.643.0250
ORGANIZER:NAIAS
ATTACH;FMTTYPE="image/jpeg":https://storage.ning.com/topology/rest/1.0
 /file/get/178888897?profile=original
ATTENDEE;ROLE=REQ-PARTICIPANT;PARTSTAT=ACCEPTED;RSVP=TRUE;CN="Car Show
 s Little Helper":https://northeastwheelsevents.com/profile/CarShowsLit
 tleHelper
END:VEVENT
END:VCALENDAR
