BEGIN:VCALENDAR
PRODID:NingEventWidget-v1
VERSION:2.0
METHOD:PUBLISH
BEGIN:VEVENT
UID:5167423:Event:310599
DTSTAMP:20260425T183508Z
SUMMARY:North Montco Education FoundationCar Show 2023!
DESCRIPTION:2023%20Car%20Show%20Flyer.pdf\n\nFor more information visi
 t https://northeastwheelsevents.com/events/north-montco-education-foun
 dationcar-show-2023
DTSTART:20230422T150000Z
DTEND:20230422T180000Z
CATEGORIES:car, show, fundraiser, for, technical, high, school
LOCATION:North Montco Technical Career Center
WEBSITE:https://www.google.com/maps/place/1265+Sumneytown+Pike,+Lansda
 le,+PA+19446/@40.2365827,-75.3213648,17z/data=!3m1!4b1!4m5!3m4!1s0x89c
 6a26a3c8e42f5:0x55f3dc2a70a59e0a!8m2!3d40.2365786!4d-75.3191708
URL:https://www.google.com/maps/place/1265+Sumneytown+Pike,+Lansdale,+
 PA+19446/@40.2365827,-75.3213648,17z/data=!3m1!4b1!4m5!3m4!1s0x89c6a26
 a3c8e42f5:0x55f3dc2a70a59e0a!8m2!3d40.2365786!4d-75.3191708
CONTACT:2153681177
ORGANIZER;CN="Denise Collins":https://northeastwheelsevents.com/profil
 e/DeniseCollins
ATTACH;FMTTYPE="image/jpeg":
ATTENDEE;ROLE=REQ-PARTICIPANT;PARTSTAT=ACCEPTED;RSVP=TRUE;CN="Denise C
 ollins":https://northeastwheelsevents.com/profile/DeniseCollins
END:VEVENT
END:VCALENDAR
