BEGIN:VCALENDAR
PRODID:NingEventWidget-v1
VERSION:2.0
METHOD:PUBLISH
BEGIN:VEVENT
UID:5167423:Event:118702
DTSTAMP:20260420T011148Z
SUMMARY:North Shore Friends, Inc.
DESCRIPTION:Car show to remember 9-11. This is the 15th anniversary of
  that tragic day.  The car show is being held to raise funds to buy g
 ifts for underprivileged children in the Central Pennsylvania area.  
 We are not charging a registration fee but are asking for a donation f
 or our cause.\n\nFor more information visit https://northeastwheelseve
 nts.com/events/north-shore-friends-inc-1
DTSTART:20160911T140000Z
DTEND:20160911T180000Z
CATEGORIES:fundraiser, for, underprivileged, children
LOCATION:Newberrytown Peddlers Market
WEBSITE:
URL:
CONTACT:717-932-0342
ORGANIZER;CN="Louise Becker":https://northeastwheelsevents.com/profile
 /LouiseBecker
ATTACH;FMTTYPE="image/jpeg":
ATTENDEE;ROLE=REQ-PARTICIPANT;PARTSTAT=ACCEPTED;RSVP=TRUE;CN="Louise B
 ecker":https://northeastwheelsevents.com/profile/LouiseBecker
END:VEVENT
END:VCALENDAR
