BEGIN:VCALENDAR
PRODID:NingEventWidget-v1
VERSION:2.0
METHOD:PUBLISH
BEGIN:VEVENT
UID:5167423:Event:161299
DTSTAMP:20260421T021347Z
SUMMARY:North Shore Friends, Inc.
DESCRIPTION:North Shore Friends, Inc., is having a car show Sunday, Se
 ptember 10, 2017 at the Newberrytown Peddlers Market, 700 York Road, D
 over, PA (next to Susquehanna Speedway).Â  Registration opens at 9AM a
 nd there is a fee of $10.00 per registered car.Â  All makes/models of 
 cars, trucks and motorcycles, classic, antiques and hot rods welcome.Â
   Trophies, dash plaques, raffles and 50/50 drawings.Â  All vehicles w
 ill be judged.\n\nFor more information visit https://northeastwheelsev
 ents.com/events/north-shore-friends-inc-3
DTSTART:20170910T130000Z
DTEND:20170910T180000Z
CATEGORIES:car, show
LOCATION:Newberrytown Peddlers Market
WEBSITE:
URL:
CONTACT:717-932-0342
ORGANIZER;CN="Louise Becker":https://northeastwheelsevents.com/profile
 /LouiseBecker
ATTACH;FMTTYPE="image/jpeg":
ATTENDEE;ROLE=REQ-PARTICIPANT;PARTSTAT=ACCEPTED;RSVP=TRUE;CN="Louise B
 ecker":https://northeastwheelsevents.com/profile/LouiseBecker
END:VEVENT
END:VCALENDAR
