BEGIN:VCALENDAR
PRODID:NingEventWidget-v1
VERSION:2.0
METHOD:PUBLISH
BEGIN:VEVENT
UID:5167423:Event:181094
DTSTAMP:20260422T043306Z
SUMMARY:North Shore Friends, Inc
DESCRIPTION:North Shore Friends, Inc., is sponsoring a car show June 1
 0, 2018, at the Newberrytown Peddlers Market, 700 York Road, Dover, PA
  17315 from 10-2, \n\nFor more information visit https://northeastwhe
 elsevents.com/events/north-shore-friends-inc-5
DTSTART:20180610T140000Z
DTEND:20180610T180000Z
CATEGORIES:car, show
LOCATION:Newberrytown Peddlers Market
WEBSITE:http://www.nsf4kids.com
URL:http://www.nsf4kids.com
CONTACT:717-932-7873
ORGANIZER;CN="Louise Becker":https://northeastwheelsevents.com/profile
 /LouiseBecker
ATTACH;FMTTYPE="image/jpeg":
ATTENDEE;ROLE=REQ-PARTICIPANT;PARTSTAT=ACCEPTED;RSVP=TRUE;CN="Louise B
 ecker":https://northeastwheelsevents.com/profile/LouiseBecker
END:VEVENT
END:VCALENDAR
