BEGIN:VCALENDAR
PRODID:NingEventWidget-v1
VERSION:2.0
METHOD:PUBLISH
BEGIN:VEVENT
UID:5167423:Event:241561
DTSTAMP:20260423T071717Z
SUMMARY:North Shore Friends, Inc.
DESCRIPTION:We provide Christmas for underprivileged children in the C
 entral Pennsylvania Area\n\nFor more information visit https://northea
 stwheelsevents.com/events/north-shore-friends-inc-7
DTSTART:20190505T130000Z
DTEND:20190505T180000Z
CATEGORIES:car, show
LOCATION:Newberrytown Peddlers Maraket
WEBSITE:
URL:
CONTACT:7179320342
ORGANIZER;CN="Louise Becker":https://northeastwheelsevents.com/profile
 /LouiseBecker
ATTACH;FMTTYPE="image/jpeg":https://storage.ning.com/topology/rest/1.0
 /file/get/1748841984?profile=original
ATTENDEE;ROLE=REQ-PARTICIPANT;PARTSTAT=ACCEPTED;RSVP=TRUE;CN="Louise B
 ecker":https://northeastwheelsevents.com/profile/LouiseBecker
END:VEVENT
END:VCALENDAR
