BEGIN:VCALENDAR
PRODID:NingEventWidget-v1
VERSION:2.0
METHOD:PUBLISH
BEGIN:VEVENT
UID:5167423:Event:245986
DTSTAMP:20260423T065404Z
SUMMARY:North Shore Friends, Inc.
DESCRIPTION:North Shore Friends, Inc., car show rescheduled from May 5
  rain out.  \n\nFor more information visit https://northeastwheelseve
 nts.com/events/north-shore-friends-inc-8
DTSTART:20190609T140000Z
DTEND:20190609T180000Z
CATEGORIES:car, show
LOCATION:Newberrytown Peddlers Market
WEBSITE:
URL:
CONTACT:717-932-0342
ORGANIZER;CN="Louise Becker":https://northeastwheelsevents.com/profile
 /LouiseBecker
ATTACH;FMTTYPE="image/jpeg":https://storage.ning.com/topology/rest/1.0
 /file/get/2649799493?profile=original
ATTENDEE;ROLE=REQ-PARTICIPANT;PARTSTAT=ACCEPTED;RSVP=TRUE;CN="Louise B
 ecker":https://northeastwheelsevents.com/profile/LouiseBecker
END:VEVENT
END:VCALENDAR
