BEGIN:VCALENDAR
PRODID:NingEventWidget-v1
VERSION:2.0
METHOD:PUBLISH
BEGIN:VEVENT
UID:5167423:Event:60336
DTSTAMP:20260420T101859Z
SUMMARY:Northeast Diecast Toy Show
DESCRIPTION:Matchbox, Hot Wheels, Corgi, Johnny Lightning, etc. & rel
 ated diecast & any vehicle related toy welcome to sell. $5.00 admissio
 n to the public, under 12 free with adult. Includes show vehicle at ad
 ditional charge to be determined.\n\nFor more information visit https:
 //northeastwheelsevents.com/events/northeast-diecast-toy-show
DTSTART:20150614T130000Z
DTEND:20150614T180000Z
CATEGORIES:toy, show
LOCATION:Crowne Plaza
WEBSITE:http://www.cromwellcp.com
URL:http://www.cromwellcp.com
CONTACT:860-349-1655
ORGANIZER;CN="Charles Mack":https://northeastwheelsevents.com/profile/
 CharlesMack
ATTACH;FMTTYPE="image/jpeg":
ATTENDEE;ROLE=REQ-PARTICIPANT;PARTSTAT=ACCEPTED;RSVP=TRUE;CN="Charles 
 Mack":https://northeastwheelsevents.com/profile/CharlesMack
END:VEVENT
END:VCALENDAR
