BEGIN:VCALENDAR
PRODID:NingEventWidget-v1
VERSION:2.0
METHOD:PUBLISH
BEGIN:VEVENT
UID:5167423:Event:139993
DTSTAMP:20260423T183137Z
SUMMARY:Northeast International Auto Show, Providence, RI
DESCRIPTION:New cars, trucks and SUVs will fill the Rhode Island Conve
 ntion Center for the 2017 Northeast International Auto Show! Friday, J
 anuary 27 – Sunday, January 29, 2017\nHours\nFriday 12 pm – 10 pm 
 Saturday 10 am – 10 pm\nSunday 10 am – 6 pm\n\nFor more informatio
 n visit https://northeastwheelsevents.com/events/northeast-internation
 al-auto-show-providence-ri
DTSTART:20170127T170000Z
DTEND:20170129T230000Z
CATEGORIES:auto, show
LOCATION:Rhode Island Convention Center
WEBSITE:http://providenceautoshow.com/show-info/
URL:http://providenceautoshow.com/show-info/
CONTACT:info@motortrendautoshows.com
ORGANIZER:Motor Trend Auto Shows
ATTACH;FMTTYPE="image/jpeg":http://storage.ning.com/topology/rest/1.0/
 file/get/2284091125?profile=original
ATTENDEE;ROLE=REQ-PARTICIPANT;PARTSTAT=ACCEPTED;RSVP=TRUE;CN="Pamela H
 irschhorn":https://northeastwheelsevents.com/profile/PamelaHirschhorn
END:VEVENT
END:VCALENDAR
