BEGIN:VCALENDAR
PRODID:NingEventWidget-v1
VERSION:2.0
METHOD:PUBLISH
BEGIN:VEVENT
UID:5167423:Event:37876
DTSTAMP:20260423T130552Z
SUMMARY:NorthEast Rod and Custom Nationals
DESCRIPTION:The NorthEast Rod and Custom Nationals returns to the Expo
  Center in Oaks, PA on March 21-23, 2014. Hundreds of custom and class
 ic cars/bikes/trucks from numerous states will be on display. Come mee
 t Brett Wagner aka Big Schwag from the TV show Passtime! Also meet Chr
 istie Brimberry and Richard Rawlings from Gas Monkey Garage and Discov
 ery Channel's TV show Fast N' Loud!!\n\nFor more information visit htt
 ps://northeastwheelsevents.com/events/northeast-rod-and-custom-nationa
 ls-1
DTSTART:20140321T180000Z
DTEND:20140323T220000Z
CATEGORIES:car, show
LOCATION:Expo Center in Oaks, PA
WEBSITE:http://www.northeastcustomcarshow.com
URL:http://www.northeastcustomcarshow.com
CONTACT:215-896-2923
ORGANIZER;CN="Brian Lutz":https://northeastwheelsevents.com/profile/Br
 ianLutz
ATTACH;FMTTYPE="image/jpeg":http://storage.ning.com/topology/rest/1.0/
 file/get/2284056500?profile=original
ATTENDEE;ROLE=REQ-PARTICIPANT;PARTSTAT=ACCEPTED;RSVP=TRUE;CN="Brian Lu
 tz":https://northeastwheelsevents.com/profile/BrianLutz
END:VEVENT
END:VCALENDAR
