BEGIN:VCALENDAR
PRODID:NingEventWidget-v1
VERSION:2.0
METHOD:PUBLISH
BEGIN:VEVENT
UID:5167423:Event:151162
DTSTAMP:20260420T183052Z
SUMMARY:Northeast Shakedown Custom Car and Truck Show by Low On Air
DESCRIPTION:Top 25 awards plus Best of Show, High/Low contest and driv
 e through judging.\n\nFor more information visit https://northeastwhee
 lsevents.com/events/northeast-shakedown-custom-car-and-truck-show-by-l
 ow-on-air
DTSTART:20170610T130000Z
DTEND:20170610T200000Z
CATEGORIES:car, and, truck, show
LOCATION:West End Fair, Gilbert, PA
WEBSITE:
URL:
CONTACT:Benjamin Kearns 267 733-2247 delusionbykes@gmail.com
ORGANIZER:Low On Air
ATTACH;FMTTYPE="image/jpeg":
ATTENDEE;ROLE=REQ-PARTICIPANT;PARTSTAT=ACCEPTED;RSVP=TRUE;CN="Pamela H
 irschhorn":https://northeastwheelsevents.com/profile/PamelaHirschhorn
END:VEVENT
END:VCALENDAR
