BEGIN:VCALENDAR
PRODID:NingEventWidget-v1
VERSION:2.0
METHOD:PUBLISH
BEGIN:VEVENT
UID:5167423:Event:330285
DTSTAMP:20260421T202255Z
SUMMARY:Northern Broome Cruise In
DESCRIPTION:Northern Broome Cruise In, will meet again on Thursday, Ju
 ly 18, 2024, 5pm - Dark. Cruise- In will be every Thursday, May 16- en
 d of September. Weather permitting! Also July, 04,11,18, 25. Open to a
 nything on Wheels: Hot Rods, Street Rods, Rat Rods, Muscle Cars, Moder
 n Muscle, Trucks, Bikes, Classics, Imports, Antiques, Race Cars, at Br
 oome County Fair Grounds, 2923 US-11, Whitney Point, NY 13862. For mor
 e Information look for us on Facebook at \"Northern Broome Cruise In\"
 . Or just click the link. Raffles and give aways will happen when the 
 amount of cars goes up. Interested vendors let us know. \n\nFor more 
 information visit https://northeastwheelsevents.com/events/northern-br
 oome-cruise-in-12
DTSTART:20240718T210000Z
DTEND:20240719T000000Z
CATEGORIES:cruise, "in."
LOCATION:2923 US-11, Whitney Point Fairgrounds
WEBSITE:https://www.facebook.com/groups/ 1246726649468144/
URL:https://www.facebook.com/groups/ 1246726649468144/
CONTACT:
ORGANIZER:Charley Ackley
ATTACH;FMTTYPE="image/jpeg":https://storage.ning.com/topology/rest/1.0
 /file/get/12213999885?profile=original
ATTENDEE;ROLE=REQ-PARTICIPANT;PARTSTAT=ACCEPTED;RSVP=TRUE;CN="William 
 Bruce":https://northeastwheelsevents.com/profile/WilliamBruce
END:VEVENT
END:VCALENDAR
