BEGIN:VCALENDAR
PRODID:NingEventWidget-v1
VERSION:2.0
METHOD:PUBLISH
BEGIN:VEVENT
UID:5167423:Event:329348
DTSTAMP:20260421T062656Z
SUMMARY:Northern Broome Cruise In
DESCRIPTION:\r\nNorthern Broome Cruise In, started thier season on Thu
 rsday, May 16, 2024, they will meet again on Thursday, June 20, 2024, 
 5pm - Dark. Cruise- In will be every Thursday, May-September. Also Jun
 e, 06,13, 20, 27. Open to anything on Wheels: Hot Rods, Street Rods, M
 uscle Cars, Modern Muscle, Trucks, Bikes, Classics, Imports, Antiques,
  Race Cars, Rat Rods at Broome County Fair Grounds, 2923 US-11, Whitne
 y Point, NY 13862. For more Information look for us on Facebook at \"N
 orthern Broome Cruise In\". Or just click the link. Raffles and give a
 ways will happen when the amount of cars goes up. Interested vendors l
 et us know. \r\n\n\nFor more information visit https://northeastwheel
 sevents.com/events/northern-broome-cruise-in-8
DTSTART:20240620T210000Z
DTEND:20240621T000000Z
CATEGORIES:cruise, "in."
LOCATION:2923 US-11, Whitney Point Fairgrounds
WEBSITE:https://www.facebook.com/groups/ 1246726649468144/
URL:https://www.facebook.com/groups/ 1246726649468144/
CONTACT:
ORGANIZER:Charley Ackley
ATTACH;FMTTYPE="image/jpeg":https://storage.ning.com/topology/rest/1.0
 /file/get/12213999885?profile=original
ATTENDEE;ROLE=REQ-PARTICIPANT;PARTSTAT=ACCEPTED;RSVP=TRUE;CN="William 
 Bruce":https://northeastwheelsevents.com/profile/WilliamBruce
END:VEVENT
END:VCALENDAR
